Package: alabaster.sce Version: 1.4.0 Command: rm -rf alabaster.sce.buildbin-libdir && mkdir alabaster.sce.buildbin-libdir && /Users/biocbuild/BBS/utils/build-universal.sh alabaster.sce_1.4.0.tar.gz /Library/Frameworks/R.framework/Resources/bin/R alabaster.sce.buildbin-libdir StartedAt: 2024-10-18 17:14:29 -0400 (Fri, 18 Oct 2024) EndedAt: 2024-10-18 17:15:09 -0400 (Fri, 18 Oct 2024) EllapsedTime: 39.8 seconds RetCode: 0 Status: OK PackageFile: alabaster.sce_1.4.0.tgz PackageFileSize: 291.7 KiB