Package: alabaster.ranges Version: 1.4.2 Command: rm -rf alabaster.ranges.buildbin-libdir && mkdir alabaster.ranges.buildbin-libdir && /Users/biocbuild/BBS/utils/build-universal.sh alabaster.ranges_1.4.2.tar.gz /Library/Frameworks/R.framework/Resources/bin/R alabaster.ranges.buildbin-libdir StartedAt: 2024-10-18 17:14:26 -0400 (Fri, 18 Oct 2024) EndedAt: 2024-10-18 17:14:43 -0400 (Fri, 18 Oct 2024) EllapsedTime: 17.1 seconds RetCode: 0 Status: OK PackageFile: alabaster.ranges_1.4.2.tgz PackageFileSize: 307.6 KiB