Package: airpart Version: 1.12.0 Command: rm -rf airpart.buildbin-libdir && mkdir airpart.buildbin-libdir && F:\biocbuild\bbs-3.19-bioc\R\bin\R.exe CMD INSTALL --build --library=airpart.buildbin-libdir airpart_1.12.0.tar.gz StartedAt: 2024-06-27 07:48:34 -0400 (Thu, 27 Jun 2024) EndedAt: 2024-06-27 07:49:13 -0400 (Thu, 27 Jun 2024) EllapsedTime: 39.4 seconds RetCode: 0 Status: OK PackageFile: airpart_1.12.0.zip PackageFileSize: 804.5 KiB