Package: affyio Version: 1.74.0 Command: chmod a+r affyio -R && E:\biocbuild\bbs-3.19-bioc\R\bin\R.exe CMD build --keep-empty-dirs --no-resave-data affyio StartedAt: 2024-10-16 17:30:13 -0400 (Wed, 16 Oct 2024) EndedAt: 2024-10-16 17:30:23 -0400 (Wed, 16 Oct 2024) EllapsedTime: 9.4 seconds RetCode: 0 Status: OK PackageFile: affyio_1.74.0.tar.gz PackageFileSize: 107.6 KiB