Package: affyPLM Version: 1.80.0 Command: /Library/Frameworks/R.framework/Resources/bin/R CMD INSTALL affyPLM StartedAt: 2024-10-16 15:57:34 -0400 (Wed, 16 Oct 2024) EndedAt: 2024-10-16 15:57:57 -0400 (Wed, 16 Oct 2024) EllapsedTime: 23.5 seconds RetCode: 0 Status: OK