Package: abseqR Version: 1.22.0 Command: rm -rf abseqR.buildbin-libdir && mkdir abseqR.buildbin-libdir && /Users/biocbuild/BBS/utils/build-universal.sh abseqR_1.22.0.tar.gz /Library/Frameworks/R.framework/Resources/bin/R abseqR.buildbin-libdir StartedAt: 2024-06-10 00:05:56 -0400 (Mon, 10 Jun 2024) EndedAt: 2024-06-10 00:06:17 -0400 (Mon, 10 Jun 2024) EllapsedTime: 20.6 seconds RetCode: 0 Status: OK PackageFile: abseqR_1.22.0.tgz PackageFileSize: 2.906 MiB