Package: a4Preproc Version: 1.52.0 Command: /Library/Frameworks/R.framework/Resources/bin/R CMD build --keep-empty-dirs --no-resave-data a4Preproc StartedAt: 2024-10-16 19:05:26 -0400 (Wed, 16 Oct 2024) EndedAt: 2024-10-16 19:05:40 -0400 (Wed, 16 Oct 2024) EllapsedTime: 13.8 seconds RetCode: 0 Status: OK PackageFile: a4Preproc_1.52.0.tar.gz PackageFileSize: 288.6 KiB