Package: a4Core Version: 1.52.0 Command: rm -rf a4Core.buildbin-libdir && mkdir a4Core.buildbin-libdir && E:\biocbuild\bbs-3.19-bioc\R\bin\R.exe CMD INSTALL --build --library=a4Core.buildbin-libdir a4Core_1.52.0.tar.gz StartedAt: 2024-10-17 07:17:57 -0400 (Thu, 17 Oct 2024) EndedAt: 2024-10-17 07:18:13 -0400 (Thu, 17 Oct 2024) EllapsedTime: 16.0 seconds RetCode: 0 Status: OK PackageFile: a4Core_1.52.0.zip PackageFileSize: 313.8 KiB