Package: XVector Version: 0.44.0 Command: rm -rf XVector.buildbin-libdir && mkdir XVector.buildbin-libdir && /Users/biocbuild/BBS/utils/build-universal.sh XVector_0.44.0.tar.gz /Library/Frameworks/R.framework/Resources/bin/R XVector.buildbin-libdir StartedAt: 2024-06-10 00:45:46 -0400 (Mon, 10 Jun 2024) EndedAt: 2024-06-10 00:46:09 -0400 (Mon, 10 Jun 2024) EllapsedTime: 23.3 seconds RetCode: 0 Status: OK PackageFile: XVector_0.44.0.tgz PackageFileSize: 627.3 KiB