Package: XINA Version: 1.22.0 Command: rm -rf XINA.buildbin-libdir && mkdir XINA.buildbin-libdir && E:\biocbuild\bbs-3.19-bioc\R\bin\R.exe CMD INSTALL --build --library=XINA.buildbin-libdir XINA_1.22.0.tar.gz StartedAt: 2024-10-17 08:51:21 -0400 (Thu, 17 Oct 2024) EndedAt: 2024-10-17 08:51:39 -0400 (Thu, 17 Oct 2024) EllapsedTime: 18.6 seconds RetCode: 0 Status: OK PackageFile: XINA_1.22.0.zip PackageFileSize: 1.212 MiB