Package: XINA Version: 1.22.0 Command: /home/biocbuild/R/R-beta-2024-04-15_r86425/bin/R CMD check --install=check:XINA.install-out.txt --library=/home/biocbuild/R/R-beta-2024-04-15_r86425/site-library --no-vignettes --timings XINA_1.22.0.tar.gz StartedAt: 2024-05-08 13:09:36 -0000 (Wed, 08 May 2024) EndedAt: 2024-05-08 13:12:10 -0000 (Wed, 08 May 2024) EllapsedTime: 154.3 seconds RetCode: 0 Status: OK CheckDir: XINA.Rcheck Warnings: 0