Package: VarCon Version: 1.12.0 Command: E:\biocbuild\bbs-3.19-bioc\R\bin\R.exe CMD INSTALL VarCon StartedAt: 2024-10-16 16:42:31 -0400 (Wed, 16 Oct 2024) EndedAt: 2024-10-16 16:43:22 -0400 (Wed, 16 Oct 2024) EllapsedTime: 51.0 seconds RetCode: 0 Status: OK