Package: VarCon Version: 1.12.0 Command: chmod a+r VarCon -R && E:\biocbuild\bbs-3.19-bioc\R\bin\R.exe CMD build --keep-empty-dirs --no-resave-data VarCon StartedAt: 2024-10-16 22:28:52 -0400 (Wed, 16 Oct 2024) EndedAt: 2024-10-16 22:29:57 -0400 (Wed, 16 Oct 2024) EllapsedTime: 64.8 seconds RetCode: 0 Status: OK PackageFile: VarCon_1.12.0.tar.gz PackageFileSize: 1.889 MiB