Package: VarCon Version: 1.12.0 Command: chmod a+r VarCon -R && F:\biocbuild\bbs-3.19-bioc\R\bin\R.exe CMD build --keep-empty-dirs --no-resave-data VarCon StartedAt: 2024-06-26 22:31:16 -0400 (Wed, 26 Jun 2024) EndedAt: 2024-06-26 22:32:34 -0400 (Wed, 26 Jun 2024) EllapsedTime: 77.7 seconds RetCode: 0 Status: OK PackageFile: VarCon_1.12.0.tar.gz PackageFileSize: 1.889 MiB