Package: VarCon Version: 1.12.0 Command: /home/biocbuild/R/R-beta-2024-04-15_r86425/bin/R CMD build --keep-empty-dirs --no-resave-data VarCon StartedAt: 2024-05-09 04:17:25 -0000 (Thu, 09 May 2024) EndedAt: 2024-05-09 04:18:34 -0000 (Thu, 09 May 2024) EllapsedTime: 69.1 seconds RetCode: 0 Status: OK PackageFile: VarCon_1.12.0.tar.gz PackageFileSize: 1.915 MiB