Package: VDJdive Version: 1.6.0 Command: rm -rf VDJdive.buildbin-libdir && mkdir VDJdive.buildbin-libdir && /Users/biocbuild/BBS/utils/build-universal.sh VDJdive_1.6.0.tar.gz /Library/Frameworks/R.framework/Resources/bin/R VDJdive.buildbin-libdir StartedAt: 2024-10-17 17:25:27 -0400 (Thu, 17 Oct 2024) EndedAt: 2024-10-17 17:27:01 -0400 (Thu, 17 Oct 2024) EllapsedTime: 94.3 seconds RetCode: 0 Status: OK PackageFile: VDJdive_1.6.0.tgz PackageFileSize: 871.9 KiB