Package: VDJdive Version: 1.6.0 Command: /Library/Frameworks/R.framework/Resources/bin/R CMD build --keep-empty-dirs --no-resave-data VDJdive StartedAt: 2024-10-17 11:21:10 -0400 (Thu, 17 Oct 2024) EndedAt: 2024-10-17 11:22:00 -0400 (Thu, 17 Oct 2024) EllapsedTime: 49.8 seconds RetCode: 0 Status: OK PackageFile: VDJdive_1.6.0.tar.gz PackageFileSize: 550.4 KiB