Package: ToxicoGx Version: 2.8.0 Command: rm -rf ToxicoGx.buildbin-libdir && mkdir ToxicoGx.buildbin-libdir && E:\biocbuild\bbs-3.19-bioc\R\bin\R.exe CMD INSTALL --build --library=ToxicoGx.buildbin-libdir ToxicoGx_2.8.0.tar.gz StartedAt: 2024-10-17 08:47:48 -0400 (Thu, 17 Oct 2024) EndedAt: 2024-10-17 08:49:09 -0400 (Thu, 17 Oct 2024) EllapsedTime: 80.8 seconds RetCode: 0 Status: OK PackageFile: ToxicoGx_2.8.0.zip PackageFileSize: 4.375 MiB