Package: TnT Version: 1.26.3 Command: rm -rf TnT.buildbin-libdir && mkdir TnT.buildbin-libdir && /Users/biocbuild/BBS/utils/build-universal.sh TnT_1.26.3.tar.gz /Library/Frameworks/R.framework/Resources/bin/R TnT.buildbin-libdir StartedAt: 2024-10-15 20:39:02 -0400 (Tue, 15 Oct 2024) EndedAt: 2024-10-15 20:39:23 -0400 (Tue, 15 Oct 2024) EllapsedTime: 20.4 seconds RetCode: 0 Status: OK PackageFile: TnT_1.26.3.tgz PackageFileSize: 526.6 KiB