Package: TVTB Version: 1.30.1 Command: /home/biocbuild/bbs-3.19-bioc/R/bin/R CMD check --install=check:TVTB.install-out.txt --library=/home/biocbuild/bbs-3.19-bioc/R/site-library --timings TVTB_1.30.1.tar.gz StartedAt: 2024-10-17 06:08:33 -0400 (Thu, 17 Oct 2024) EndedAt: 2024-10-17 06:16:02 -0400 (Thu, 17 Oct 2024) EllapsedTime: 448.9 seconds RetCode: 0 Status: WARNINGS CheckDir: TVTB.Rcheck Warnings: 1