Package: TVTB Version: 1.30.1 Command: /Library/Frameworks/R.framework/Resources/bin/R CMD check --install=check:TVTB.install-out.txt --library=/Library/Frameworks/R.framework/Resources/library --no-vignettes --timings TVTB_1.30.1.tar.gz StartedAt: 2024-10-18 16:01:43 -0400 (Fri, 18 Oct 2024) EndedAt: 2024-10-18 16:10:27 -0400 (Fri, 18 Oct 2024) EllapsedTime: 524.0 seconds RetCode: 0 Status: WARNINGS CheckDir: TVTB.Rcheck Warnings: 1