Package: TRONCO Version: 2.36.0 Command: chmod a+r TRONCO -R && F:\biocbuild\bbs-3.19-bioc\R\bin\R.exe CMD build --keep-empty-dirs --no-resave-data TRONCO StartedAt: 2024-06-26 22:28:07 -0400 (Wed, 26 Jun 2024) EndedAt: 2024-06-26 22:29:46 -0400 (Wed, 26 Jun 2024) EllapsedTime: 99.1 seconds RetCode: 0 Status: OK PackageFile: TRONCO_2.36.0.tar.gz PackageFileSize: 2.742 MiB