Package: TRONCO Version: 2.36.0 Command: rm -rf TRONCO.buildbin-libdir && mkdir TRONCO.buildbin-libdir && /Users/biocbuild/BBS/utils/build-universal.sh TRONCO_2.36.0.tar.gz /Library/Frameworks/R.framework/Resources/bin/R TRONCO.buildbin-libdir StartedAt: 2024-10-15 20:43:36 -0400 (Tue, 15 Oct 2024) EndedAt: 2024-10-15 20:43:54 -0400 (Tue, 15 Oct 2024) EllapsedTime: 18.2 seconds RetCode: 0 Status: OK PackageFile: TRONCO_2.36.0.tgz PackageFileSize: 4.848 MiB