Package: TPP Version: 3.32.0 Command: /Library/Frameworks/R.framework/Resources/bin/R CMD check --install=check:TPP.install-out.txt --library=/Library/Frameworks/R.framework/Resources/library --no-vignettes --timings TPP_3.32.0.tar.gz StartedAt: 2024-10-17 14:30:40 -0400 (Thu, 17 Oct 2024) EndedAt: 2024-10-17 14:51:09 -0400 (Thu, 17 Oct 2024) EllapsedTime: 1229.2 seconds RetCode: 0 Status: OK CheckDir: TPP.Rcheck Warnings: 0