Package: TOAST Version: 1.18.0 Command: /Library/Frameworks/R.framework/Resources/bin/R CMD INSTALL TOAST StartedAt: 2024-10-16 15:20:49 -0400 (Wed, 16 Oct 2024) EndedAt: 2024-10-16 15:21:49 -0400 (Wed, 16 Oct 2024) EllapsedTime: 60.0 seconds RetCode: 0 Status: OK