Package: TIN Version: 1.36.0 Command: /home/biocbuild/bbs-3.19-bioc/R/bin/R CMD build --keep-empty-dirs --no-resave-data TIN StartedAt: 2024-10-16 21:11:28 -0400 (Wed, 16 Oct 2024) EndedAt: 2024-10-16 21:12:19 -0400 (Wed, 16 Oct 2024) EllapsedTime: 51.1 seconds RetCode: 0 Status: OK PackageFile: TIN_1.36.0.tar.gz PackageFileSize: 4.588 MiB