Package: TFHAZ Version: 1.26.0 Command: /home/biocbuild/R/R-beta-2024-04-15_r86425/bin/R CMD check --install=check:TFHAZ.install-out.txt --library=/home/biocbuild/R/R-beta-2024-04-15_r86425/site-library --no-vignettes --timings TFHAZ_1.26.0.tar.gz StartedAt: 2024-05-08 12:39:59 -0000 (Wed, 08 May 2024) EndedAt: 2024-05-08 12:46:22 -0000 (Wed, 08 May 2024) EllapsedTime: 383.7 seconds RetCode: 0 Status: OK CheckDir: TFHAZ.Rcheck Warnings: 0