Package: TFHAZ Version: 1.26.0 Command: /Library/Frameworks/R.framework/Resources/bin/R CMD build --keep-empty-dirs --no-resave-data TFHAZ StartedAt: 2024-06-10 05:55:42 -0400 (Mon, 10 Jun 2024) EndedAt: 2024-06-10 05:57:28 -0400 (Mon, 10 Jun 2024) EllapsedTime: 106.3 seconds RetCode: 0 Status: OK PackageFile: TFHAZ_1.26.0.tar.gz PackageFileSize: 2.516 MiB