Package: TEQC Version: 4.26.0 Command: /Library/Frameworks/R.framework/Resources/bin/R CMD check --install=check:TEQC.install-out.txt --library=/Library/Frameworks/R.framework/Resources/library --no-vignettes --timings TEQC_4.26.0.tar.gz StartedAt: 2024-06-09 23:30:42 -0400 (Sun, 09 Jun 2024) EndedAt: 2024-06-09 23:32:41 -0400 (Sun, 09 Jun 2024) EllapsedTime: 119.2 seconds RetCode: 0 Status: WARNINGS CheckDir: TEQC.Rcheck Warnings: 1