Package: TEQC Version: 4.26.0 Command: /home/biocbuild/R/R-beta-2024-04-15_r86425/bin/R CMD check --install=check:TEQC.install-out.txt --library=/home/biocbuild/R/R-beta-2024-04-15_r86425/site-library --no-vignettes --timings TEQC_4.26.0.tar.gz StartedAt: 2024-05-08 12:38:27 -0000 (Wed, 08 May 2024) EndedAt: 2024-05-08 12:40:37 -0000 (Wed, 08 May 2024) EllapsedTime: 129.2 seconds RetCode: 0 Status: WARNINGS CheckDir: TEQC.Rcheck Warnings: 1