Package: TDbasedUFEadv Version: 1.4.0 Command: rm -rf TDbasedUFEadv.buildbin-libdir && mkdir TDbasedUFEadv.buildbin-libdir && F:\biocbuild\bbs-3.19-bioc\R\bin\R.exe CMD INSTALL --build --library=TDbasedUFEadv.buildbin-libdir TDbasedUFEadv_1.4.0.tar.gz StartedAt: 2024-06-27 09:02:07 -0400 (Thu, 27 Jun 2024) EndedAt: 2024-06-27 09:02:46 -0400 (Thu, 27 Jun 2024) EllapsedTime: 38.2 seconds RetCode: 0 Status: OK PackageFile: TDbasedUFEadv_1.4.0.zip PackageFileSize: 2.067 MiB