Package: SynMut Version: 1.20.0 Command: /home/biocbuild/bbs-3.19-bioc/R/bin/R CMD build --keep-empty-dirs --no-resave-data SynMut StartedAt: 2024-10-16 21:07:01 -0400 (Wed, 16 Oct 2024) EndedAt: 2024-10-16 21:07:19 -0400 (Wed, 16 Oct 2024) EllapsedTime: 18.0 seconds RetCode: 0 Status: OK PackageFile: SynMut_1.20.0.tar.gz PackageFileSize: 104.8 KiB