Package: SpeCond Version: 1.58.0 Command: /Library/Frameworks/R.framework/Resources/bin/R CMD build --keep-empty-dirs --no-resave-data SpeCond StartedAt: 2024-10-16 23:37:11 -0400 (Wed, 16 Oct 2024) EndedAt: 2024-10-16 23:39:14 -0400 (Wed, 16 Oct 2024) EllapsedTime: 122.4 seconds RetCode: 0 Status: OK PackageFile: SpeCond_1.58.0.tar.gz PackageFileSize: 1.699 MiB