Package: SpatialExperiment Version: 1.14.0 Command: /home/biocbuild/bbs-3.19-bioc/R/bin/R CMD build --keep-empty-dirs --no-resave-data SpatialExperiment StartedAt: 2024-10-16 20:57:12 -0400 (Wed, 16 Oct 2024) EndedAt: 2024-10-16 20:58:15 -0400 (Wed, 16 Oct 2024) EllapsedTime: 63.1 seconds RetCode: 0 Status: OK PackageFile: SpatialExperiment_1.14.0.tar.gz PackageFileSize: 5.156 MiB