Package: SpatialExperiment Version: 1.14.0 Command: /home/biocbuild/R/R-beta-2024-04-15_r86425/bin/R CMD check --install=check:SpatialExperiment.install-out.txt --library=/home/biocbuild/R/R-beta-2024-04-15_r86425/site-library --no-vignettes --timings SpatialExperiment_1.14.0.tar.gz StartedAt: 2024-05-09 12:11:48 -0000 (Thu, 09 May 2024) EndedAt: 2024-05-09 12:17:10 -0000 (Thu, 09 May 2024) EllapsedTime: 322.5 seconds RetCode: 0 Status: OK CheckDir: SpatialExperiment.Rcheck Warnings: 0