Package: SparseArray Version: 1.4.8 Command: chmod a+r SparseArray -R && F:\biocbuild\bbs-3.19-bioc\R\bin\R.exe CMD build --keep-empty-dirs --no-resave-data SparseArray StartedAt: 2024-06-26 22:04:52 -0400 (Wed, 26 Jun 2024) EndedAt: 2024-06-26 22:06:01 -0400 (Wed, 26 Jun 2024) EllapsedTime: 68.9 seconds RetCode: 0 Status: OK PackageFile: SparseArray_1.4.8.tar.gz PackageFileSize: 383 KiB