Package: SigFuge Version: 1.42.0 Command: /home/biocbuild/bbs-3.19-bioc/R/bin/R CMD build --keep-empty-dirs --no-resave-data SigFuge StartedAt: 2024-10-16 20:50:41 -0400 (Wed, 16 Oct 2024) EndedAt: 2024-10-16 20:51:33 -0400 (Wed, 16 Oct 2024) EllapsedTime: 52.1 seconds RetCode: 0 Status: OK PackageFile: SigFuge_1.42.0.tar.gz PackageFileSize: 1.459 MiB