Package: SigFuge Version: 1.42.0 Command: /Library/Frameworks/R.framework/Resources/bin/R CMD check --install=check:SigFuge.install-out.txt --library=/Library/Frameworks/R.framework/Resources/library --no-vignettes --timings SigFuge_1.42.0.tar.gz StartedAt: 2024-10-17 13:11:48 -0400 (Thu, 17 Oct 2024) EndedAt: 2024-10-17 13:16:01 -0400 (Thu, 17 Oct 2024) EllapsedTime: 252.9 seconds RetCode: 0 Status: OK CheckDir: SigFuge.Rcheck Warnings: 0