Package: SigFuge Version: 1.42.0 Command: /Library/Frameworks/R.framework/Resources/bin/R CMD build --keep-empty-dirs --no-resave-data SigFuge StartedAt: 2024-10-16 23:20:04 -0400 (Wed, 16 Oct 2024) EndedAt: 2024-10-16 23:22:49 -0400 (Wed, 16 Oct 2024) EllapsedTime: 164.6 seconds RetCode: 0 Status: OK PackageFile: SigFuge_1.42.0.tar.gz PackageFileSize: 1.458 MiB