Package: SiPSiC Version: 1.4.3 Command: /Library/Frameworks/R.framework/Resources/bin/R CMD check --install=check:SiPSiC.install-out.txt --library=/Library/Frameworks/R.framework/Resources/library --no-vignettes --timings SiPSiC_1.4.3.tar.gz StartedAt: 2024-10-18 12:44:02 -0400 (Fri, 18 Oct 2024) EndedAt: 2024-10-18 12:47:10 -0400 (Fri, 18 Oct 2024) EllapsedTime: 188.3 seconds RetCode: 0 Status: OK CheckDir: SiPSiC.Rcheck Warnings: 0