Package: SeqGSEA Version: 1.44.0 Command: /home/biocbuild/bbs-3.19-bioc/R/bin/R CMD build --keep-empty-dirs --no-resave-data SeqGSEA StartedAt: 2024-10-16 20:48:20 -0400 (Wed, 16 Oct 2024) EndedAt: 2024-10-16 20:50:51 -0400 (Wed, 16 Oct 2024) EllapsedTime: 151.3 seconds RetCode: 0 Status: OK PackageFile: SeqGSEA_1.44.0.tar.gz PackageFileSize: 1.432 MiB