Package: SeqArray Version: 1.44.3 Command: rm -rf SeqArray.buildbin-libdir && mkdir SeqArray.buildbin-libdir && /Users/biocbuild/BBS/utils/build-universal.sh SeqArray_1.44.3.tar.gz /Library/Frameworks/R.framework/Resources/bin/R SeqArray.buildbin-libdir StartedAt: 2024-10-17 17:10:41 -0400 (Thu, 17 Oct 2024) EndedAt: 2024-10-17 17:12:25 -0400 (Thu, 17 Oct 2024) EllapsedTime: 103.9 seconds RetCode: 0 Status: OK PackageFile: SeqArray_1.44.3.tgz PackageFileSize: 4.155 MiB