Package: SeqArray Version: 1.44.0 Command: /Library/Frameworks/R.framework/Resources/bin/R CMD build --keep-empty-dirs --no-resave-data SeqArray StartedAt: 2024-06-10 04:39:31 -0400 (Mon, 10 Jun 2024) EndedAt: 2024-06-10 04:45:09 -0400 (Mon, 10 Jun 2024) EllapsedTime: 338.3 seconds RetCode: 0 Status: OK PackageFile: SeqArray_1.44.0.tar.gz PackageFileSize: 3.641 MiB