Package: SemDist Version: 1.38.0 Command: /Library/Frameworks/R.framework/Resources/bin/R CMD check --install=check:SemDist.install-out.txt --library=/Library/Frameworks/R.framework/Resources/library --no-vignettes --timings SemDist_1.38.0.tar.gz StartedAt: 2024-06-11 05:15:54 -0400 (Tue, 11 Jun 2024) EndedAt: 2024-06-11 05:20:36 -0400 (Tue, 11 Jun 2024) EllapsedTime: 282.8 seconds RetCode: 0 Status: OK CheckDir: SemDist.Rcheck Warnings: 0