Package: Sconify Version: 1.24.0 Command: /Library/Frameworks/R.framework/Resources/bin/R CMD check --install=check:Sconify.install-out.txt --library=/Library/Frameworks/R.framework/Resources/library --no-vignettes --timings Sconify_1.24.0.tar.gz StartedAt: 2024-06-09 22:55:30 -0400 (Sun, 09 Jun 2024) EndedAt: 2024-06-09 22:57:30 -0400 (Sun, 09 Jun 2024) EllapsedTime: 120.5 seconds RetCode: 0 Status: OK CheckDir: Sconify.Rcheck Warnings: 0