Package: Scale4C Version: 1.26.0 Command: rm -rf Scale4C.buildbin-libdir && mkdir Scale4C.buildbin-libdir && /Users/biocbuild/BBS/utils/build-universal.sh Scale4C_1.26.0.tar.gz /Library/Frameworks/R.framework/Resources/bin/R Scale4C.buildbin-libdir StartedAt: 2024-10-17 17:05:43 -0400 (Thu, 17 Oct 2024) EndedAt: 2024-10-17 17:06:59 -0400 (Thu, 17 Oct 2024) EllapsedTime: 76.0 seconds RetCode: 0 Status: OK PackageFile: Scale4C_1.26.0.tgz PackageFileSize: 2.141 MiB