Package: SVMDO Version: 1.4.7 Command: E:\biocbuild\bbs-3.19-bioc\R\bin\R.exe CMD INSTALL SVMDO StartedAt: 2024-10-16 17:08:01 -0400 (Wed, 16 Oct 2024) EndedAt: 2024-10-16 17:08:50 -0400 (Wed, 16 Oct 2024) EllapsedTime: 48.7 seconds RetCode: 0 Status: OK