Package: SUITOR Version: 1.6.0 Command: /Library/Frameworks/R.framework/Resources/bin/R CMD check --install=check:SUITOR.install-out.txt --library=/Library/Frameworks/R.framework/Resources/library --no-vignettes --timings SUITOR_1.6.0.tar.gz StartedAt: 2024-10-17 14:01:25 -0400 (Thu, 17 Oct 2024) EndedAt: 2024-10-17 14:03:18 -0400 (Thu, 17 Oct 2024) EllapsedTime: 113.2 seconds RetCode: 0 Status: OK CheckDir: SUITOR.Rcheck Warnings: 0