Package: SUITOR Version: 1.6.0 Command: /home/biocbuild/R/R-beta-2024-04-15_r86425/bin/R CMD check --install=check:SUITOR.install-out.txt --library=/home/biocbuild/R/R-beta-2024-04-15_r86425/site-library --no-vignettes --timings SUITOR_1.6.0.tar.gz StartedAt: 2024-05-08 12:27:37 -0000 (Wed, 08 May 2024) EndedAt: 2024-05-08 12:28:33 -0000 (Wed, 08 May 2024) EllapsedTime: 56.1 seconds RetCode: 0 Status: OK CheckDir: SUITOR.Rcheck Warnings: 0