Package: STdeconvolve Version: 1.8.0 Command: rm -rf STdeconvolve.buildbin-libdir && mkdir STdeconvolve.buildbin-libdir && /Users/biocbuild/BBS/utils/build-universal.sh STdeconvolve_1.8.0.tar.gz /Library/Frameworks/R.framework/Resources/bin/R STdeconvolve.buildbin-libdir StartedAt: 2024-07-02 17:16:11 -0400 (Tue, 02 Jul 2024) EndedAt: 2024-07-02 17:16:19 -0400 (Tue, 02 Jul 2024) EllapsedTime: 8.0 seconds RetCode: 0 Status: OK PackageFile: STdeconvolve_1.8.0.tgz PackageFileSize: 2.929 MiB